BEGIN:VCALENDAR
VERSION:2.0
PRODID:-//eventon.com NONSGML v1.0//EN
CALSCALE:GREGORIAN
METHOD:PUBLISH
BEGIN:VEVENT
UID:69e5f3c8a6388
DTSTAMP:20260420T093712Z
DTSTART:20241122T230000Z
DTEND:20241122T230000Z
LOCATION:
SUMMARY:Brauchtumsgottesdienst
DESCRIPTION:\nhttps://stjosef-venn.de/events/brauchtumsgottesdienst/
URL:https://stjosef-venn.de/events/brauchtumsgottesdienst/
END:VEVENT
END:VCALENDAR